BEGIN:VCALENDAR
VERSION:2.0
PRODID:-//chikkutakku.com//RDFCal 1.0//EN
X-WR-CALDESC:GoogleカレンダーやiCalendar形式情報を共有シェ
 アしましょう。近所のイベントから全国のイベントま
 で今日のイベント検索やスケジュールを決めるならち
 っくたっく
X-WR-CALNAME:ちっくたっく
X-WR-TIMEZONE:UTC
BEGIN:VEVENT
SUMMARY:【第3回】なでこやまりしあ
DTSTART;VALUE=DATE-TIME:20260423T133000Z
DTEND;VALUE=DATE-TIME:20260423T143000Z
UID:209814962183
DESCRIPTION:【イベント主催者】\n　ぢょぢゅぢゃ\n【イベ
 ント内容】\n　マリシアになでなでしてもらえるイベン
 トです！\n【イベントジャンル】\n　初心者向けイベン
 ト\, 定期イベント\n【参加条件（モデル、人数制限など
 ）】\n　アバターサイズ:40MB以下\nテクスチャサイズ:150M
 B以下\n\n【参加方法】\n　グループインスタンスで行い
 ます。ID:NADEMR.5217\n【備考】\n　23:40からアフターもござ
 いますので参加よろしくおねがいします
LOCATION:
END:VEVENT
END:VCALENDAR
