BEGIN:VCALENDAR
VERSION:2.0
PRODID:-//chikkutakku.com//RDFCal 1.0//EN
X-WR-CALDESC:GoogleカレンダーやiCalendar形式情報を共有シェ
 アしましょう。近所のイベントから全国のイベントま
 で今日のイベント検索やスケジュールを決めるならち
 っくたっく
X-WR-CALNAME:ちっくたっく
X-WR-TIMEZONE:UTC
BEGIN:VEVENT
SUMMARY:【注】スノウボールアース #1 救えなかった救世
 主 / #2 出会う / #3 はじめての、友だち / #4 怪獣使いと
 パイン缶
DTSTART;VALUE=DATE-TIME:20260425T033000Z
DTEND;VALUE=DATE-TIME:20260425T053000Z
UID:209937355344
DESCRIPTION: / #1 救えなかった救世主 / #2 出会う / #3 はじ
 めての、友だち / #4 怪獣使いとパイン缶 / https://abema.tv/
 channels/abema-anime/slots/AkN7Z95MCZqGxF リピート放送は ABEMA ア
 ニメチャンネル3 22:00～ https://abema.tv/channels/abema-anime-3/sl
 ots/Ah77qMDBjXTa8P (無料TS1週間)
LOCATION:Abemaアニメ
END:VEVENT
END:VCALENDAR
