BEGIN:VCALENDAR
VERSION:2.0
PRODID:-//chikkutakku.com//RDFCal 1.0//EN
X-WR-CALDESC:GoogleカレンダーやiCalendar形式情報を共有シェ
 アしましょう。近所のイベントから全国のイベントま
 で今日のイベント検索やスケジュールを決めるならち
 っくたっく
X-WR-CALNAME:ちっくたっく
X-WR-TIMEZONE:UTC
BEGIN:VEVENT
SUMMARY:【注】上伊那ぼたん、酔へる姿は百合の花 「上
 伊那ぼたん、酒の肴になる話　おかわり」#3
DTSTART;VALUE=DATE-TIME:20260424T153000Z
DTEND;VALUE=DATE-TIME:20260424T160000Z
UID:210161816221
DESCRIPTION: / ^「上伊那ぼたん、酒の肴になる話　おかわ
 り」#3 / ([[アニメSPECIAL https://abema.tv/timetable/channels/special
 -plus-7]]) https://abema.tv/channels/special-plus-7/slots/AkN7WQLj19jz55 
 ラジオ形式の特別番組　出演：青山吉能(砺波いぶき 役
 )、天海由梨奈(遊佐あかね 役) https://x.com/Anime_ABEMA/status/
 2045170581008757003
LOCATION:ABEMA特設その他
END:VEVENT
END:VCALENDAR
