BEGIN:VCALENDAR
VERSION:2.0
PRODID:-//chikkutakku.com//RDFCal 1.0//EN
X-WR-CALDESC:GoogleカレンダーやiCalendar形式情報を共有シェ
 アしましょう。近所のイベントから全国のイベントま
 で今日のイベント検索やスケジュールを決めるならち
 っくたっく
X-WR-CALNAME:ちっくたっく
X-WR-TIMEZONE:UTC
BEGIN:VEVENT
SUMMARY:一度見たら忘れない! ゆるかわ英語フレーズ図鑑
DTSTART;VALUE=DATE:20260512
DTEND;VALUE=DATE:20260513
UID:210292862027
DESCRIPTION:2026-05-13一度見たら忘れない! ゆるかわ英語フ
 レーズ図鑑アリムラモハ宝島社
LOCATION:
END:VEVENT
END:VCALENDAR
