BEGIN:VCALENDAR
VERSION:2.0
PRODID:-//chikkutakku.com//RDFCal 1.0//EN
X-WR-CALDESC:GoogleカレンダーやiCalendar形式情報を共有シェ
 アしましょう。近所のイベントから全国のイベントま
 で今日のイベント検索やスケジュールを決めるならち
 っくたっく
X-WR-CALNAME:ちっくたっく
X-WR-TIMEZONE:UTC
BEGIN:VEVENT
SUMMARY:【115年第2梯次】即測即評及發證檢定-受理報名
DTSTART;VALUE=DATE-TIME:20260421T010000Z
DTEND;VALUE=DATE-TIME:20260421T083000Z
UID:210596983732
DESCRIPTION:    【115年第2梯次】即測即評及發證檢定-受理
 報名報名日期：04月21日(二)～ 04 月23 日(四)報名時間：09
 :00-12:00／13:30-16:30(中午不收件)報名地點：※技高部行政
 辦公室《辦理職類》▲  學科_含免術(乙.丙.單一級）=報
 名費340元▲  丙級_電腦硬體裝修(限制人數：120人)=報名
 費1570元▲  丙級_會計事務-資訊(限制人數：200人)=報名
 費1020元　學科承辦：黃若蘋術科承辦：黃乙庭、邱琬茹\
 n\n通过 Google Meet 加入：https://meet.google.com/vts-enfu-xtd\n或
 者拨打以下号码：(US) +1 347-508-5256 PIN 码： 563739256#\n\n如
 需详细了解 Google Meet，请访问：https://support.google.com/a/use
 rs/answer/9282720
LOCATION:輸智3樓-技高部行政辦公室
END:VEVENT
END:VCALENDAR
