BEGIN:VCALENDAR
VERSION:2.0
PRODID:-//chikkutakku.com//RDFCal 1.0//EN
X-WR-CALDESC:GoogleカレンダーやiCalendar形式情報を共有シェ
 アしましょう。近所のイベントから全国のイベントま
 で今日のイベント検索やスケジュールを決めるならち
 っくたっく
X-WR-CALNAME:ちっくたっく
X-WR-TIMEZONE:UTC
BEGIN:VEVENT
SUMMARY:新代田FEVER
DTSTART;VALUE=DATE:20260430
DTEND;VALUE=DATE:20260501
UID:210597297031
DESCRIPTION:5/1(金) at 新代田FEVER\n「FLAG FES -緊急開催-」\n\nO
 PEN18:40 / START19:00\n優先入場¥3\,500 / 前売一般¥2\,800 / 当
 日¥3\,800 +1d\n\n《出演》20:00-20:30\n《物販》21:10-22:10\n\n
 🎫4/25(土) 12:00販売開始\nt-dv.com/flag0501\n\n.
LOCATION:
END:VEVENT
END:VCALENDAR
