BEGIN:VCALENDAR
VERSION:2.0
PRODID:-//chikkutakku.com//RDFCal 1.0//EN
X-WR-CALDESC:GoogleカレンダーやiCalendar形式情報を共有シェ
 アしましょう。近所のイベントから全国のイベントま
 で今日のイベント検索やスケジュールを決めるならち
 っくたっく
X-WR-CALNAME:ちっくたっく
X-WR-TIMEZONE:UTC
BEGIN:VEVENT
SUMMARY:【初心者歓迎!!】CLUB EXCITE 【EP.16】
DTSTART;VALUE=DATE-TIME:20260426T120000Z
DTEND;VALUE=DATE-TIME:20260426T145900Z
UID:211754734792
DESCRIPTION:【イベント主催者】\n　スコバニ\n【イベント
 内容】\n　DJイベント\n【イベントジャンル】\n　音楽系
 イベント\n【参加条件（モデル、人数制限など）】\n　
 【最大人数80人】\n\n【注意】\n過度なパーティクル、高
 負荷アバター、その他、音楽イベントにふさわしくな
 い行為はご遠慮ください。\nまた、音声が含まれる動画
 撮影などもご遠慮ください(写真などGIFはOK！)\n当イベ
 ントは初心者の方にも楽しんでいただけるよう、【迷
 惑】【荒らし行為】【イベント進行妨害】は見つけ次
 第ご退出していただきます。\n【参加方法】\n　Group+【h
 ttps://vrc.group/EXCITE.6955】\n【備考】\n　https://x.com/CLUB_EXCIT
 E_VR
LOCATION:
END:VEVENT
END:VCALENDAR
