BEGIN:VCALENDAR
VERSION:2.0
PRODID:-//chikkutakku.com//RDFCal 1.0//EN
X-WR-CALDESC:GoogleカレンダーやiCalendar形式情報を共有シェ
 アしましょう。近所のイベントから全国のイベントま
 で今日のイベント検索やスケジュールを決めるならち
 っくたっく
X-WR-CALNAME:ちっくたっく
X-WR-TIMEZONE:UTC
BEGIN:VEVENT
SUMMARY:Fathers of the three Holy Synods
DTSTART;VALUE=DATE-TIME:20260519T183000Z
DTEND;VALUE=DATE-TIME:20260520T183000Z
UID:211911558784
DESCRIPTION:Luke 6:20-31
LOCATION:
END:VEVENT
END:VCALENDAR
