BEGIN:VCALENDAR
VERSION:2.0
PRODID:-//chikkutakku.com//RDFCal 1.0//EN
X-WR-CALDESC:GoogleカレンダーやiCalendar形式情報を共有シェ
 アしましょう。近所のイベントから全国のイベントま
 で今日のイベント検索やスケジュールを決めるならち
 っくたっく
X-WR-CALNAME:ちっくたっく
X-WR-TIMEZONE:UTC
BEGIN:VEVENT
SUMMARY:悩める子羊カフェ
DTSTART;VALUE=DATE-TIME:20260509T120000Z
DTEND;VALUE=DATE-TIME:20260509T143000Z
UID:212382123765
DESCRIPTION:【イベント主催者】\n　風音 はる\n【イベント
 内容】\n　　悩める子羊が草を食べるためのカフェ。\n
 一緒に道草、食っていきませんか？\n\n悩みを草（笑顔
 ）にして帰ってくれたらいいなというコンセプトで作
 りました。\n\n主催者は精神保健福祉士、社会福祉士の
 資格を所持しています。\n治療ではありません。また、
 解決をお約束するものでもありません。\nけれども、悩
 みに寄り添い、少しでも笑顔になってくれることを願
 っています。\n\n【イベントジャンル】\n　その他交流
 会\n【参加条件（モデル、人数制限など）】\n　・社会
 人\n・日本語話者\n・先着8名まで（出入り自由）\n【参
 加方法】\n　事前に「悩める子羊カフェ」グループに参
 加申請をお願いします。\nメニュー→グループ→悩める
 子羊カフェ→インスタンス　からjoinしてください。\n\n
 【備考】\n　
LOCATION:
END:VEVENT
END:VCALENDAR
