BEGIN:VCALENDAR
VERSION:2.0
PRODID:-//chikkutakku.com//RDFCal 1.0//EN
X-WR-CALDESC:GoogleカレンダーやiCalendar形式情報を共有シェ
 アしましょう。近所のイベントから全国のイベントま
 で今日のイベント検索やスケジュールを決めるならち
 っくたっく
X-WR-CALNAME:ちっくたっく
X-WR-TIMEZONE:UTC
BEGIN:VEVENT
SUMMARY:仮)新歓のため
DTSTART;VALUE=DATE-TIME:20260424T060000Z
DTEND;VALUE=DATE-TIME:20260424T100000Z
UID:212409361929
DESCRIPTION:▼申込内容\n予約日時: 2026/03/19 10:12:06\nお名前
 　: 高橋唯人(TU-gene)\n予約日　: 2026/04/24(金)\n予約時間: 1
 5:00～19:00
LOCATION:
END:VEVENT
END:VCALENDAR
