BEGIN:VCALENDAR
VERSION:2.0
PRODID:-//chikkutakku.com//RDFCal 1.0//EN
X-WR-CALDESC:GoogleカレンダーやiCalendar形式情報を共有シェ
 アしましょう。近所のイベントから全国のイベントま
 で今日のイベント検索やスケジュールを決めるならち
 っくたっく
X-WR-CALNAME:ちっくたっく
X-WR-TIMEZONE:UTC
BEGIN:VEVENT
SUMMARY:Nintendo Switch 2 専用スマートポーチEVA スーパーマ
 リオ（シルエット）
DTSTART;VALUE=DATE:20260427
DTEND;VALUE=DATE:20260428
UID:212929621981
DESCRIPTION:2026-04-28Nintendo Switch 2 専用スマートポーチEVA ス
 ーパーマリオ（シルエット）マックスゲームズ
LOCATION:
END:VEVENT
END:VCALENDAR
