BEGIN:VCALENDAR
VERSION:2.0
PRODID:-//chikkutakku.com//RDFCal 1.0//EN
X-WR-CALDESC:GoogleカレンダーやiCalendar形式情報を共有シェ
 アしましょう。近所のイベントから全国のイベントま
 で今日のイベント検索やスケジュールを決めるならち
 っくたっく
X-WR-CALNAME:ちっくたっく
X-WR-TIMEZONE:UTC
BEGIN:VEVENT
SUMMARY:(รองฯพญ.สิริมา)เชิญประชุ
 มติดตามการมอบหมายภารกิจเ
 พื่อเตรียมการรับเสด็จสมเ
 ด็จพระกนิษฐาธิดาเจ้ากรมส
 มเด็จพระเมพรัตนราชสุดาฯส
 ยามบรมราชกุมารี
DTSTART;VALUE=DATE-TIME:20260427T073000Z
DTEND;VALUE=DATE-TIME:20260427T093000Z
UID:213002651460
DESCRIPTION:(รองฯพญ.สิริมา)เชิญประ
 ชุมติดตามการมอบหมายภารกิ
 จเพื่อเตรียมการรับเสด็จส
 มเด็จพระกนิษฐาธิดาเจ้ากร
 มสมเด็จพระเมพรัตนราชสุดา
 ฯสยามบรมราชกุมารี
LOCATION:ณ ห้องประชุมแม่กลอง ชั้
 น5 ศาลากลางจังหวัดสมุทรสงค
 ราม
END:VEVENT
END:VCALENDAR
