BEGIN:VCALENDAR
VERSION:2.0
PRODID:-//chikkutakku.com//RDFCal 1.0//EN
X-WR-CALDESC:GoogleカレンダーやiCalendar形式情報を共有シェ
 アしましょう。近所のイベントから全国のイベントま
 で今日のイベント検索やスケジュールを決めるならち
 っくたっく
X-WR-CALNAME:ちっくたっく
X-WR-TIMEZONE:UTC
BEGIN:VEVENT
SUMMARY:Polling Site (SHC) 
DTSTART;VALUE=DATE:20260512
DTEND;VALUE=DATE:20260513
UID:213699431150
DESCRIPTION:Polling Site (SHC) 
LOCATION:Sacred Heart Center 
END:VEVENT
END:VCALENDAR
