BEGIN:VCALENDAR
VERSION:2.0
PRODID:-//chikkutakku.com//RDFCal 1.0//EN
X-WR-CALDESC:GoogleカレンダーやiCalendar形式情報を共有シェ
 アしましょう。近所のイベントから全国のイベントま
 で今日のイベント検索やスケジュールを決めるならち
 っくたっく
X-WR-CALNAME:ちっくたっく
X-WR-TIMEZONE:UTC
BEGIN:VEVENT
SUMMARY:【Android 対応】VRC怪談集会赤い部屋
DTSTART;VALUE=DATE-TIME:20260420T130000Z
DTEND;VALUE=DATE-TIME:20260420T145900Z
UID:213711690473
DESCRIPTION:【イベント主催者】\n　akaiheya\n【イベント内
 容】\n　VRC怪談集会赤い部屋です。 怪談集会を行いま
 す。 聞き専歓迎、話者大歓迎。 怖い話や不思議な話を
 内容問わず持ち寄りましょう。\n【イベントジャンル】
 \n　その他交流会\, 定期イベント\n【参加条件（モデル
 、人数制限など）】\n　80人まで。音や明滅の激しいア
 バターはなるべく控えてください。\n【参加方法】\n　
 「akaiheya」にフレンド申請＆join または akaiheyaグループ
 インスタンスにJOIN\nhttps://vrchat.com/home/group/grp_9315e5d4-db67
 -45b9-b0a5-13ff57f9107a\n【備考】\n　
LOCATION:
END:VEVENT
END:VCALENDAR
