BEGIN:VCALENDAR
VERSION:2.0
PRODID:-//chikkutakku.com//RDFCal 1.0//EN
X-WR-CALDESC:GoogleカレンダーやiCalendar形式情報を共有シェ
 アしましょう。近所のイベントから全国のイベントま
 で今日のイベント検索やスケジュールを決めるならち
 っくたっく
X-WR-CALNAME:ちっくたっく
X-WR-TIMEZONE:UTC
BEGIN:VEVENT
SUMMARY:アフタービート　セッション
DTSTART;VALUE=DATE-TIME:20260506T090000Z
DTEND;VALUE=DATE-TIME:20260506T130000Z
UID:213874106537
DESCRIPTION:アフタービート　セッション
LOCATION:
END:VEVENT
END:VCALENDAR
