BEGIN:VCALENDAR
VERSION:2.0
PRODID:-//chikkutakku.com//RDFCal 1.0//EN
X-WR-CALDESC:GoogleカレンダーやiCalendar形式情報を共有シェ
 アしましょう。近所のイベントから全国のイベントま
 で今日のイベント検索やスケジュールを決めるならち
 っくたっく
X-WR-CALNAME:ちっくたっく
X-WR-TIMEZONE:UTC
BEGIN:VEVENT
SUMMARY:文学フリマ物語
DTSTART;VALUE=DATE:20260519
DTEND;VALUE=DATE:20260520
UID:213925768533
DESCRIPTION:2026-05-20文学フリマ物語鈴木沙巴良ウェッジ
LOCATION:
END:VEVENT
END:VCALENDAR
