BEGIN:VCALENDAR
VERSION:2.0
PRODID:-//chikkutakku.com//RDFCal 1.0//EN
X-WR-CALDESC:GoogleカレンダーやiCalendar形式情報を共有シェ
 アしましょう。近所のイベントから全国のイベントま
 で今日のイベント検索やスケジュールを決めるならち
 っくたっく
X-WR-CALNAME:ちっくたっく
X-WR-TIMEZONE:UTC
BEGIN:VEVENT
SUMMARY:World Climate Change Day
DTSTART;VALUE=DATE-TIME:20260514T120000Z
DTEND;VALUE=DATE-TIME:20260515T120000Z
UID:214027816442
DESCRIPTION:http://minskpriroda.gov.by/en/infotape/ecocalendar/15-may-is-t
 he-world-climate-change-day/
LOCATION:
END:VEVENT
END:VCALENDAR
