BEGIN:VCALENDAR
VERSION:2.0
PRODID:-//chikkutakku.com//RDFCal 1.0//EN
X-WR-CALDESC:GoogleカレンダーやiCalendar形式情報を共有シェ
 アしましょう。近所のイベントから全国のイベントま
 で今日のイベント検索やスケジュールを決めるならち
 っくたっく
X-WR-CALNAME:ちっくたっく
X-WR-TIMEZONE:UTC
BEGIN:VEVENT
SUMMARY:【岩手】湯田ダム 点検放流（錦秋湖スプリング
 放流 in NISHIWAGA 2026）
DTSTART;VALUE=DATE-TIME:20260508T150000Z
DTEND;VALUE=DATE-TIME:20260509T150000Z
UID:214282467531
DESCRIPTION:春本番、山の雪解けが進む時期に、湯田ダム
 の堤体最頂部にあるクレストゲート（非常用）から、
 この時期にしか見られない迫力満点の点検放流を行い
 ます。https://www.thr.mlit.go.jp/kitakato/101event/yu_event.html開催
 日時令和8年5月9日（土）・5月10日（日）両日共に 10時
 から15時開催場所湯田ダム（岩手県西和賀郡西和賀町）
 注意事項・放流の水しぶきにより衣類が濡れますので
 、雨具の持参をお願いします。・  洪水発生等の影響
 により、中止になる場合もあります。・  期間中、ダ
 ムサイト周辺は駐車禁止です。・  臨時駐車駐車場を
 ご利用の上、シャトルバスでお越しください。
LOCATION:
END:VEVENT
END:VCALENDAR
