BEGIN:VCALENDAR
VERSION:2.0
PRODID:-//chikkutakku.com//RDFCal 1.0//EN
X-WR-CALDESC:GoogleカレンダーやiCalendar形式情報を共有シェ
 アしましょう。近所のイベントから全国のイベントま
 で今日のイベント検索やスケジュールを決めるならち
 っくたっく
X-WR-CALNAME:ちっくたっく
X-WR-TIMEZONE:UTC
BEGIN:VEVENT
SUMMARY:六本木 マイスコッチ / 元山和泉(Vo)
DTSTART;VALUE=DATE-TIME:20260518T100000Z
DTEND;VALUE=DATE-TIME:20260518T133000Z
UID:214472732396
DESCRIPTION:03-3402-6649https://myscotch.tokyo/
LOCATION:六本木ピアノバー マイスコッチ\, 日本、〒106-003
 2 東京都港区六本木７丁目１８−１１ DMビル ８Ｆ
END:VEVENT
END:VCALENDAR
