BEGIN:VCALENDAR
VERSION:2.0
PRODID:-//chikkutakku.com//RDFCal 1.0//EN
X-WR-CALDESC:GoogleカレンダーやiCalendar形式情報を共有シェ
 アしましょう。近所のイベントから全国のイベントま
 で今日のイベント検索やスケジュールを決めるならち
 っくたっく
X-WR-CALNAME:ちっくたっく
X-WR-TIMEZONE:UTC
BEGIN:VEVENT
SUMMARY:Slyfe Meeting
DTSTART;VALUE=DATE-TIME:20260506T070000Z
DTEND;VALUE=DATE-TIME:20260506T110000Z
UID:214749059140
DESCRIPTION:Slyfe is an anti-spectacle / anti-capitalist collective art pr
 oject. We place on emphasis on constructing Slyfe (Situations of Life) to 
 evoke and provoke people to better engage with their everyday life. Every 
 Slyfe is free to participate in. Slyfe examples\;  - events (one-off / r
 ecurring) - workshops- skill share initiatives - worker bees - public p
 erformance art We&#39\;ll be holding collective meetings to build on our 
 praxis\, values\, &amp\; long term vision for this project @ Frontyard eve
 ry fortnight. Any idea\, question or thought is welcomed in these meetings
 . If there&#39\;s an event / skill share / workshop idea that you have in 
 mind\, these regular fortnightly meetings will be the best place to share 
 these ideas. We need not only think to use Frontyard as a space to facilit
 ate Slyfe! Public space and private space is our oyster. We will also meet
  @ Addison Road Community Centre from time-to-time for meetings (weather d
 ependent) These meetings will happen fortnightly without fail. We believe
  consistency and reliability are the most important pillars in establishin
 g a collective. The meetings come with a loose structure but there&#39\;s 
 enough room for us to explore anyone&#39\;s input if they feel comfortable
  sharing~
LOCATION:Workshop Room (booked by LW)
END:VEVENT
END:VCALENDAR
