BEGIN:VCALENDAR
VERSION:2.0
PRODID:-//chikkutakku.com//RDFCal 1.0//EN
X-WR-CALDESC:GoogleカレンダーやiCalendar形式情報を共有シェ
 アしましょう。近所のイベントから全国のイベントま
 で今日のイベント検索やスケジュールを決めるならち
 っくたっく
X-WR-CALNAME:ちっくたっく
X-WR-TIMEZONE:UTC
BEGIN:VEVENT
SUMMARY:Solarpunk Meetup
DTSTART;VALUE=DATE-TIME:20260205T080000Z
DTEND;VALUE=DATE-TIME:20260507T070000Z
UID:214801045908
DESCRIPTION:Come to our bi-monthly meetup and help us develop regenerative
  and open source technology for local community and mutual aid groups! We
  are currently working on a project with LA Solar Fridges\, but our long-t
 erm goals are to grow a collective hosting a range of projects focused on 
 local and tangible solutions to social and environmental challenges. Open
  to all skill sets and levels\, we are also a great place if you just want
  to learn more about the solarpunk movement and supporting your local comm
 unity. Have questions? Reach out to nathanielheidt@gmail.com to learn mor
 e!\n\n通过 Google Meet 加入：https://meet.google.com/btk-oekr-vns\n\n
 如需详细了解 Google Meet，请访问：https://support.google.com/a/
 users/answer/9282720
LOCATION:
END:VEVENT
END:VCALENDAR
