BEGIN:VCALENDAR
VERSION:2.0
PRODID:-//chikkutakku.com//RDFCal 1.0//EN
X-WR-CALDESC:GoogleカレンダーやiCalendar形式情報を共有シェ
 アしましょう。近所のイベントから全国のイベントま
 で今日のイベント検索やスケジュールを決めるならち
 っくたっく
X-WR-CALNAME:ちっくたっく
X-WR-TIMEZONE:UTC
BEGIN:VEVENT
SUMMARY:[舞台]｢ﾁｬｰﾘｰとﾁｮｺﾚｰﾄ工場｣in博多
 座※初日
DTSTART;VALUE=DATE-TIME:20260506T083000Z
DTEND;VALUE=DATE-TIME:20260506T113000Z
UID:214958010200
DESCRIPTION:[舞台]｢ﾁｬｰﾘｰとﾁｮｺﾚｰﾄ工場｣in博
 多座※初日
LOCATION:
END:VEVENT
END:VCALENDAR
