BEGIN:VCALENDAR
VERSION:2.0
PRODID:-//chikkutakku.com//RDFCal 1.0//EN
X-WR-CALDESC:GoogleカレンダーやiCalendar形式情報を共有シェ
 アしましょう。近所のイベントから全国のイベントま
 で今日のイベント検索やスケジュールを決めるならち
 っくたっく
X-WR-CALNAME:ちっくたっく
X-WR-TIMEZONE:UTC
BEGIN:VEVENT
SUMMARY:Me-know trio@阿佐ヶ谷クラヴィエール
DTSTART;VALUE=DATE:20260521
DTEND;VALUE=DATE:20260522
UID:215029581944
DESCRIPTION:Me-know trio\n野口ｼﾞｬﾊﾞ久和(Pf)\n山村ﾙｰﾀ
 ﾝ隆一(B)\n井上ｲﾉﾔﾝ尚彦(Dr)\n\nクラヴィエール初出
 演❣
LOCATION:阿佐ヶ谷クラヴィーア
END:VEVENT
END:VCALENDAR
