BEGIN:VCALENDAR
VERSION:2.0
PRODID:-//chikkutakku.com//RDFCal 1.0//EN
X-WR-CALDESC:GoogleカレンダーやiCalendar形式情報を共有シェ
 アしましょう。近所のイベントから全国のイベントま
 で今日のイベント検索やスケジュールを決めるならち
 っくたっく
X-WR-CALNAME:ちっくたっく
X-WR-TIMEZONE:UTC
BEGIN:VEVENT
SUMMARY:【オールジャンルDJイベント】MIX∞MATCH vol.6
DTSTART;VALUE=DATE-TIME:20260425T120000Z
DTEND;VALUE=DATE-TIME:20260425T160000Z
UID:215070659619
DESCRIPTION:【イベント主催者】\n　https://vrchat.com/home/user/u
 sr_88221699-a82c-48d5-882a-e5d0d08faf6b\n【イベント内容】\n　─
 ─ 音楽に境界はいらない。\nMIX∞MATCH は、ジャンルの
 枠を超えてあらゆる「音」が交差する、VRChatの定期オ
 ールジャンルDJイベントです。\n\n最新のクラブミュー
 ジックから、懐かしの歌謡曲、アニソン、ロック、そ
 して電子の海に眠る未知のトラックまで。DJたちが独自
 の解釈で紡ぎ出す「無限の組み合わせ」を、最高のパ
 ーティ空間でお楽しみください。\n\nGenre: ALL GENRE (Anythin
 g Goes!)\n\nAtmosphere: Stylish & High Energy\n\nEntry: 初心者大歓迎
 ・Joinフリー\n\nお気に入りの1曲に出会う場所。それが M
 IX∞MATCH です。\n【イベントジャンル】\n　音楽系イベ
 ント\, 初心者向けイベント\, 定期イベント\n【参加条件
 （モデル、人数制限など）】\n　50Mb以下のアバターを
 推奨しております\nまたNSFWを守った内容のアバターで
 お越しください\n【参加方法】\n　MIX MACTHのグループに
 参加し時間になったらインスタンスへJoin---\n【備考】\n
 　本イベントでは毎月回してくれるDJ、VJさんを募集し
 ております。興味がある方は是非主催のH4ZRDにお尋ねく
 ださい！
LOCATION:
END:VEVENT
END:VCALENDAR
