BEGIN:VCALENDAR
VERSION:2.0
PRODID:-//chikkutakku.com//RDFCal 1.0//EN
X-WR-CALDESC:GoogleカレンダーやiCalendar形式情報を共有シェ
 アしましょう。近所のイベントから全国のイベントま
 で今日のイベント検索やスケジュールを決めるならち
 っくたっく
X-WR-CALNAME:ちっくたっく
X-WR-TIMEZONE:UTC
BEGIN:VEVENT
SUMMARY:ゴレンジャー #47 「赤い大逆襲！怒りのゴレンジ
 ャー」
DTSTART;VALUE=DATE-TIME:20260424T093000Z
DTEND;VALUE=DATE-TIME:20260424T100000Z
UID:215273773898
DESCRIPTION:47 / 赤い大逆襲！怒りのゴレンジャー / 
LOCATION:TOKYO MX
END:VEVENT
END:VCALENDAR
