BEGIN:VCALENDAR
VERSION:2.0
PRODID:-//chikkutakku.com//RDFCal 1.0//EN
X-WR-CALDESC:GoogleカレンダーやiCalendar形式情報を共有シェ
 アしましょう。近所のイベントから全国のイベントま
 で今日のイベント検索やスケジュールを決めるならち
 っくたっく
X-WR-CALNAME:ちっくたっく
X-WR-TIMEZONE:UTC
BEGIN:VEVENT
SUMMARY:Sunday School
DTSTART;VALUE=DATE-TIME:20260517T080000Z
DTEND;VALUE=DATE-TIME:20260518T080000Z
UID:215536282496
DESCRIPTION:The whole family is welcome for Sunday School. All ages are we
 lcome. The adult and junior/high school classes will study a book of the 
 Bible. There are two children&#39\;s classes and a nursery for infants. On
 e kids&#39\; class is for children 4 years old -2nd grade and the other is
  for 3rd -6th grade. Join us in Sunday School where God&#39\;s Word comes 
 alive for everyone.\nA light breakfast is offered the first 10 minutes bef
 ore the teaching starts.
LOCATION:
END:VEVENT
END:VCALENDAR
