BEGIN:VCALENDAR
VERSION:2.0
PRODID:-//chikkutakku.com//RDFCal 1.0//EN
X-WR-CALDESC:GoogleカレンダーやiCalendar形式情報を共有シェ
 アしましょう。近所のイベントから全国のイベントま
 で今日のイベント検索やスケジュールを決めるならち
 っくたっく
X-WR-CALNAME:ちっくたっく
X-WR-TIMEZONE:UTC
BEGIN:VEVENT
SUMMARY:アイドルマスター シャイニーカラーズの8周年記
 念日
DTSTART;VALUE=DATE:20260423
DTEND;VALUE=DATE:20260424
UID:215541454332
DESCRIPTION:2018年開始
LOCATION:
END:VEVENT
END:VCALENDAR
