BEGIN:VCALENDAR
VERSION:2.0
PRODID:-//chikkutakku.com//RDFCal 1.0//EN
X-WR-CALDESC:GoogleカレンダーやiCalendar形式情報を共有シェ
 アしましょう。近所のイベントから全国のイベントま
 で今日のイベント検索やスケジュールを決めるならち
 っくたっく
X-WR-CALNAME:ちっくたっく
X-WR-TIMEZONE:UTC
BEGIN:VEVENT
SUMMARY:BD 福西 隼杜
DTSTART;VALUE=DATE-TIME:20260516T150000Z
DTEND;VALUE=DATE-TIME:20260517T150000Z
UID:215740549718
DESCRIPTION:2000年5月 17日福西 隼杜 選手ページ
LOCATION:
END:VEVENT
END:VCALENDAR
