BEGIN:VCALENDAR
VERSION:2.0
PRODID:-//chikkutakku.com//RDFCal 1.0//EN
X-WR-CALDESC:GoogleカレンダーやiCalendar形式情報を共有シェ
 アしましょう。近所のイベントから全国のイベントま
 で今日のイベント検索やスケジュールを決めるならち
 っくたっく
X-WR-CALNAME:ちっくたっく
X-WR-TIMEZONE:UTC
BEGIN:VEVENT
SUMMARY:St Ephraim New Makri and St. Irene the Great Martyr 
DTSTART;VALUE=DATE:20260505
DTEND;VALUE=DATE:20260506
UID:216121705262
DESCRIPTION:St Ephraim New Makri and St. Irene the Great Martyr 
LOCATION:
END:VEVENT
END:VCALENDAR
