BEGIN:VCALENDAR
VERSION:2.0
PRODID:-//chikkutakku.com//RDFCal 1.0//EN
X-WR-CALDESC:GoogleカレンダーやiCalendar形式情報を共有シェ
 アしましょう。近所のイベントから全国のイベントま
 で今日のイベント検索やスケジュールを決めるならち
 っくたっく
X-WR-CALNAME:ちっくたっく
X-WR-TIMEZONE:UTC
BEGIN:VEVENT
SUMMARY:年とる力
DTSTART;VALUE=DATE:20260519
DTEND;VALUE=DATE:20260520
UID:216218685821
DESCRIPTION:2026-05-20年とる力阿川 佐和子文藝春秋
LOCATION:
END:VEVENT
END:VCALENDAR
