BEGIN:VCALENDAR
VERSION:2.0
PRODID:-//chikkutakku.com//RDFCal 1.0//EN
X-WR-CALDESC:GoogleカレンダーやiCalendar形式情報を共有シェ
 アしましょう。近所のイベントから全国のイベントま
 で今日のイベント検索やスケジュールを決めるならち
 っくたっく
X-WR-CALNAME:ちっくたっく
X-WR-TIMEZONE:UTC
BEGIN:VEVENT
SUMMARY:鉱物の王国 Das Mineralreich
DTSTART;VALUE=DATE:20260518
DTEND;VALUE=DATE:20260519
UID:216804841465
DESCRIPTION:2026-05-19鉱物の王国 Das Mineralreichラインハルト
 ・ブラウンス/大野 照文/高田 雅介/会田 信行創元社
LOCATION:
END:VEVENT
END:VCALENDAR
