BEGIN:VCALENDAR
VERSION:2.0
PRODID:-//chikkutakku.com//RDFCal 1.0//EN
X-WR-CALDESC:GoogleカレンダーやiCalendar形式情報を共有シェ
 アしましょう。近所のイベントから全国のイベントま
 で今日のイベント検索やスケジュールを決めるならち
 っくたっく
X-WR-CALNAME:ちっくたっく
X-WR-TIMEZONE:UTC
BEGIN:VEVENT
SUMMARY:2026/05/06（三）「提升好職感，打造個人形象必修
 課」（高雄實體）
DTSTART;VALUE=DATE-TIME:20260505T160000Z
DTEND;VALUE=DATE-TIME:20260506T155959Z
UID:217482440870
DESCRIPTION:2026/05/06（三）「提升好職感，打造個人形象必
 修課」（高雄實體）
LOCATION:
END:VEVENT
END:VCALENDAR
