BEGIN:VCALENDAR
VERSION:2.0
PRODID:-//chikkutakku.com//RDFCal 1.0//EN
X-WR-CALDESC:GoogleカレンダーやiCalendar形式情報を共有シェ
 アしましょう。近所のイベントから全国のイベントま
 で今日のイベント検索やスケジュールを決めるならち
 っくたっく
X-WR-CALNAME:ちっくたっく
X-WR-TIMEZONE:UTC
BEGIN:VEVENT
SUMMARY:【珈琲軽食ちゃかちゃか】◆定期営業日◆
DTSTART;VALUE=DATE-TIME:20260424T130000Z
DTEND;VALUE=DATE-TIME:20260424T140000Z
UID:218727341172
DESCRIPTION:【イベント主催者】\n　ちゃかもと\n【イベン
 ト内容】\n　珈琲軽食ちゃかちゃか月一回の定期営業日
 です。\n【イベントジャンル】\n　店舗系イベント\, 定
 期イベント\n【参加条件（モデル、人数制限など）】\n
 　席数15席\n【参加方法】\n　Groupインスタンスにて開き
 ますので、https://vrc.group/CHAKA.0123 こちらのGroupに加入し
 て頂き、ご来店ください。\n【備考】\n　https://x.com/cafec
 hakachaka/status/2042131489098445059
LOCATION:
END:VEVENT
END:VCALENDAR
