BEGIN:VCALENDAR
VERSION:2.0
PRODID:-//chikkutakku.com//RDFCal 1.0//EN
X-WR-CALDESC:GoogleカレンダーやiCalendar形式情報を共有シェ
 アしましょう。近所のイベントから全国のイベントま
 で今日のイベント検索やスケジュールを決めるならち
 っくたっく
X-WR-CALNAME:ちっくたっく
X-WR-TIMEZONE:UTC
BEGIN:VEVENT
SUMMARY:新サラリーマン金太郎 新装細読版 7 自信を持っ
 ていいんだ!!
DTSTART;VALUE=DATE:20260507
DTEND;VALUE=DATE:20260508
UID:218743817372
DESCRIPTION:2026-05-08新サラリーマン金太郎 新装細読版 7 自
 信を持っていいんだ!!本宮 ひろ志集英社
LOCATION:
END:VEVENT
END:VCALENDAR
