BEGIN:VCALENDAR
VERSION:2.0
PRODID:-//chikkutakku.com//RDFCal 1.0//EN
X-WR-CALDESC:GoogleカレンダーやiCalendar形式情報を共有シェ
 アしましょう。近所のイベントから全国のイベントま
 で今日のイベント検索やスケジュールを決めるならち
 っくたっく
X-WR-CALNAME:ちっくたっく
X-WR-TIMEZONE:UTC
BEGIN:VEVENT
SUMMARY:Sign up for Classes
DTSTART;VALUE=DATE-TIME:20260510T070000Z
DTEND;VALUE=DATE-TIME:20260510T070000Z
UID:218800512614
DESCRIPTION:Sign-up is now available for the following classes.Go to the d
 ate of class and click on it to see material list.Remember only 6 spots ar
 e available for all classes.Rotary Cutter &amp\; Ruler - This is a on Dem
 and class please contact Jackie Iverson at 919 455 8484.  Once a date has
  been set the class will be posted.Creative Group Sewing DaySaturday\, May
  2\, 202611:00 am - 4:00 pmJolene PiaskowskiPlease bring your basic sewing
  kit!Reversible Tote or NOTSaturday\, May 23\, 2026Noon - 4:00 pmJolene PI
 askowskiIf you wish tumblers please contact Jolene to get them.Quilted One
  Handle ToteSaturday\, May 30\, 2026Sunday\, May 31\, 2026Noon - 4:00 pmMu
 st attend both days(2) 1/2 Day Class = $10.00 class feeSunflower Wall / Do
 or HangerMonday\, April 13\, 2026 10:00 am - 2:00 pmThursday\, April 16\, 
 2026 10:00 am - 2:00 pmDenise Bryan(2) 1/2 Day ClassYou can sign-up for al
 l these classes NOW.
LOCATION:
END:VEVENT
END:VCALENDAR
