BEGIN:VCALENDAR
VERSION:2.0
PRODID:-//chikkutakku.com//RDFCal 1.0//EN
X-WR-CALDESC:GoogleカレンダーやiCalendar形式情報を共有シェ
 アしましょう。近所のイベントから全国のイベントま
 で今日のイベント検索やスケジュールを決めるならち
 っくたっく
X-WR-CALNAME:ちっくたっく
X-WR-TIMEZONE:UTC
BEGIN:VEVENT
SUMMARY:พจ. เข้าร่วมการประชุมขั
 บเคลื่อนภารกิจสำคัญของกร
 ะทรวงมหาดไทย ผ่านระบบวีดิ
 ทัศน์ทางไกล (VCS)   ณ ห้องประชุ
 มสระกำแพงใหญ่ ชั้น 4 ศาลากล
 างจังหวัด ศรีสะเกษ
DTSTART;VALUE=DATE-TIME:20260422T010000Z
DTEND;VALUE=DATE-TIME:20260422T030000Z
UID:219111734719
DESCRIPTION:พจ. เข้าร่วมการประชุมข
 ับเคลื่อนภารกิจสำคัญของก
 ระทรวงมหาดไทย ผ่านระบบวีด
 ิทัศน์ทางไกล (VCS)   ณ ห้องประช
 ุมสระกำแพงใหญ่ ชั้น 4 ศาลาก
 ลางจังหวัด ศรีสะเกษ
LOCATION:
END:VEVENT
END:VCALENDAR
