BEGIN:VCALENDAR
VERSION:2.0
PRODID:-//chikkutakku.com//RDFCal 1.0//EN
X-WR-CALDESC:GoogleカレンダーやiCalendar形式情報を共有シェ
 アしましょう。近所のイベントから全国のイベントま
 で今日のイベント検索やスケジュールを決めるならち
 っくたっく
X-WR-CALNAME:ちっくたっく
X-WR-TIMEZONE:UTC
BEGIN:VEVENT
SUMMARY:SKsリーグ2026 STAGE4 5/31まで
DTSTART;VALUE=DATE-TIME:20260518T130000Z
DTEND;VALUE=DATE-TIME:20260518T140000Z
UID:219160506871
DESCRIPTION:リーグ戦(ディビジョン制)\nBO3形式
LOCATION:https://x.com/SKs_e_sports/status/2005265189525184991
END:VEVENT
END:VCALENDAR
