BEGIN:VCALENDAR
VERSION:2.0
PRODID:-//chikkutakku.com//RDFCal 1.0//EN
X-WR-CALDESC:GoogleカレンダーやiCalendar形式情報を共有シェ
 アしましょう。近所のイベントから全国のイベントま
 で今日のイベント検索やスケジュールを決めるならち
 っくたっく
X-WR-CALNAME:ちっくたっく
X-WR-TIMEZONE:UTC
BEGIN:VEVENT
SUMMARY:Student Media Banquet
DTSTART;VALUE=DATE-TIME:20260511T233000Z
DTEND;VALUE=DATE-TIME:20260512T013000Z
UID:219214196147
DESCRIPTION:Student Media Banquet
LOCATION:Alamo Cafe\, 14250 San Pedro Ave\, San Antonio\, TX 78232\, USA
END:VEVENT
END:VCALENDAR
