BEGIN:VCALENDAR
VERSION:2.0
PRODID:-//chikkutakku.com//RDFCal 1.0//EN
X-WR-CALDESC:GoogleカレンダーやiCalendar形式情報を共有シェ
 アしましょう。近所のイベントから全国のイベントま
 で今日のイベント検索やスケジュールを決めるならち
 っくたっく
X-WR-CALNAME:ちっくたっく
X-WR-TIMEZONE:UTC
BEGIN:VEVENT
SUMMARY:回復術士のやり直し （18）
DTSTART;VALUE=DATE:20260506
DTEND;VALUE=DATE:20260507
UID:219284882955
DESCRIPTION:2026-05-07回復術士のやり直し （18）月夜 涙/羽
 賀 ソウケン/しおこんぶKADOKAWA
LOCATION:
END:VEVENT
END:VCALENDAR
