BEGIN:VCALENDAR
VERSION:2.0
PRODID:-//chikkutakku.com//RDFCal 1.0//EN
X-WR-CALDESC:GoogleカレンダーやiCalendar形式情報を共有シェ
 アしましょう。近所のイベントから全国のイベントま
 で今日のイベント検索やスケジュールを決めるならち
 っくたっく
X-WR-CALNAME:ちっくたっく
X-WR-TIMEZONE:UTC
BEGIN:VEVENT
SUMMARY:Everlasting Forest
DTSTART;VALUE=DATE-TIME:20260422T124500Z
DTEND;VALUE=DATE-TIME:20260422T140000Z
UID:219510461180
DESCRIPTION:【イベント主催者】\n　chiaki0508\n【イベント内
 容】\n　【Everlasting Forest】へようこそ。\n\nここは世界
 樹を癒やすため、精霊や動物たちが「人の姿」で旅人
 をもてなす隠れ家です。 キャストは旅人の物語や感情
 を受け取ることで古樹を救い、旅人は精霊との対話を
 通じて癒やしを得ます。 夜の終わりに魔法が解け、精
 霊たちが本来の姿や呪われた姿へと還っていく、刹那
 の別れを見届けてください。\n\nイベントでは、精霊や
 動物であるキャストたちが、一夜の魔法にかけられて
 あなたの旅の物語に耳を傾けます。\n焚き火を囲んだり
 、星空を眺めたり、あなただけの特別な時間をお過ご
 しください。\n【イベントジャンル】\n　ロールプレイ\
 n【参加条件（モデル、人数制限など）】\n　　・公序
 良俗に反する行為はしないでください。\n・人を選ぶ話
 題は避けましょう。\n（性的なもの、暴力的なもの）\n
 ・イベント中はcastへのフレンド交換はしないでくださ
 い。\n・ワールドに極端に負荷をかける行為はしないで
 ください。\n・イベントの進行を妨げるような行為はし
 ないでください。\n・アバター容量は40MB以下をお願い
 いたします。\n・動画撮影、録音はご遠慮ください。\n
 もし希望される場合は事前に申請してください。\n【参
 加方法】\n　EVER.8006\nURLhttps://vrc.group/EVER.8006\n【備考】\n
 　
LOCATION:
END:VEVENT
END:VCALENDAR
