BEGIN:VCALENDAR
VERSION:2.0
PRODID:-//chikkutakku.com//RDFCal 1.0//EN
X-WR-CALDESC:GoogleカレンダーやiCalendar形式情報を共有シェ
 アしましょう。近所のイベントから全国のイベントま
 で今日のイベント検索やスケジュールを決めるならち
 っくたっく
X-WR-CALNAME:ちっくたっく
X-WR-TIMEZONE:UTC
BEGIN:VEVENT
SUMMARY:【小学部】市川/松戸合同ラグビー体験会
DTSTART;VALUE=DATE-TIME:20260425T234500Z
DTEND;VALUE=DATE-TIME:20260426T030000Z
UID:219541311486
DESCRIPTION:【小学部】市川/松戸合同ラグビー体験会
LOCATION:国府台陸上競技場\, 日本、〒272-0827 千葉県市川
 市国府台１丁目６−４ ISG国府台クラブハウス
END:VEVENT
END:VCALENDAR
