BEGIN:VCALENDAR
VERSION:2.0
PRODID:-//chikkutakku.com//RDFCal 1.0//EN
X-WR-CALDESC:GoogleカレンダーやiCalendar形式情報を共有シェ
 アしましょう。近所のイベントから全国のイベントま
 で今日のイベント検索やスケジュールを決めるならち
 っくたっく
X-WR-CALNAME:ちっくたっく
X-WR-TIMEZONE:UTC
BEGIN:VEVENT
SUMMARY:(14時)柳家一琴の会
DTSTART;VALUE=DATE:20260425
DTEND;VALUE=DATE:20260426
UID:219902977324
DESCRIPTION:出演：柳家一琴\n開場13時半　開演14時 \n料金
 ：予約2500円　当日2800円 \nお問い合わせ　ikkiny@goo.jp　
 柳家一琴　 \nらくごカフェ：03-6268-​9818（平日12時～18
 時ま​で）
LOCATION:
END:VEVENT
END:VCALENDAR
