BEGIN:VCALENDAR
VERSION:2.0
PRODID:-//chikkutakku.com//RDFCal 1.0//EN
X-WR-CALDESC:GoogleカレンダーやiCalendar形式情報を共有シェ
 アしましょう。近所のイベントから全国のイベントま
 で今日のイベント検索やスケジュールを決めるならち
 っくたっく
X-WR-CALNAME:ちっくたっく
X-WR-TIMEZONE:UTC
BEGIN:VEVENT
SUMMARY:Volunteer Training_Single Craft River Paddling
DTSTART;VALUE=DATE-TIME:20260506T153000Z
DTEND;VALUE=DATE-TIME:20260506T200000Z
UID:220319189072
DESCRIPTION:Small Crafts on the River: In this clinic\, we will go through
  a quick refresher on what a day in the life at ASA looks like\, reminders
  about responsibilities and expectations while on a river program. While o
 ut on the water\, we will be utilizing canoes\, kayaks and paddle boards. 
 While we are out paddling\, we will discuss our safety precautions with sm
 all crafts on the water. We will dive into kayak paddling and other skille
 d based learning opportunities for our participants. The logistics of runn
 ing small crafts on the river will look a bit different than a traditional
  rafting trip. We will talk about those differences and how that will affe
 ct the flow of the day. With the opportunity to run small crafts\, we will
  be able to get some of our participants more independence on the water\, 
 as well as extend our rafting season when the water gets low.Experience: S
 hould have taken a rafting clinic with ASA in the past or have a boating b
 ackground. Have some experience paddling a small craft on a river. This cl
 inic is tailored towards our returning volunteers who are looking to dive 
 into guiding and supporting small crafts out on the river. If you have any
  questions\, feel free to reach out to Stefan at training@asadurango.com.
  
LOCATION:
END:VEVENT
END:VCALENDAR
