BEGIN:VCALENDAR
VERSION:2.0
PRODID:-//chikkutakku.com//RDFCal 1.0//EN
X-WR-CALDESC:GoogleカレンダーやiCalendar形式情報を共有シェ
 アしましょう。近所のイベントから全国のイベントま
 で今日のイベント検索やスケジュールを決めるならち
 っくたっく
X-WR-CALNAME:ちっくたっく
X-WR-TIMEZONE:UTC
BEGIN:VEVENT
SUMMARY:女神「異世界転生何になりたいですか」俺「勇者
 の肋骨で」 #3 「時計台の秒針／勇者のレベルアップ通
 知をする頭の中の声の人」
DTSTART;VALUE=DATE-TIME:20260422T143000Z
DTEND;VALUE=DATE-TIME:20260422T150000Z
UID:220800160007
DESCRIPTION:3 / 時計台の秒針／勇者のレベルアップ通知を
 する頭の中の声の人 / 
LOCATION:BS日テレ
END:VEVENT
END:VCALENDAR
