BEGIN:VCALENDAR
VERSION:2.0
PRODID:-//chikkutakku.com//RDFCal 1.0//EN
X-WR-CALDESC:GoogleカレンダーやiCalendar形式情報を共有シェ
 アしましょう。近所のイベントから全国のイベントま
 で今日のイベント検索やスケジュールを決めるならち
 っくたっく
X-WR-CALNAME:ちっくたっく
X-WR-TIMEZONE:UTC
BEGIN:VEVENT
SUMMARY:元祖！バンドリちゃん #29 「サバイバルタワーの
 試練」
DTSTART;VALUE=DATE-TIME:20260423T142500Z
DTEND;VALUE=DATE-TIME:20260423T143000Z
UID:220961713851
DESCRIPTION:29 / サバイバルタワーの試練 / 
LOCATION:TOKYO MX
END:VEVENT
END:VCALENDAR
