BEGIN:VCALENDAR
VERSION:2.0
PRODID:-//chikkutakku.com//RDFCal 1.0//EN
X-WR-CALDESC:GoogleカレンダーやiCalendar形式情報を共有シェ
 アしましょう。近所のイベントから全国のイベントま
 で今日のイベント検索やスケジュールを決めるならち
 っくたっく
X-WR-CALNAME:ちっくたっく
X-WR-TIMEZONE:UTC
BEGIN:VEVENT
SUMMARY:🐤バードウォッチング🐤
DTSTART;VALUE=DATE-TIME:20260426T003000Z
DTEND;VALUE=DATE-TIME:20260426T030000Z
UID:220990258826
DESCRIPTION:【バードウォッチング】テーマ「春の野鳥」
 日時：2026年4月26日（日）9：30～12：00季節の鳥たちとの
 出会いを求めて、ガイドと一緒に園内を巡ります。出
 会った野鳥についての解説はもちろん、双眼鏡の使い
 方などもガイドが指導しますので、バードウォッチン
 グ初心者の方も安心してご参加ください！対　象：一
 般（小学生以下は保護者の参加が必要）参加料：1人500
 円定　員：先着20人（※同時申込は5人まで）申込み：
 事前に電話申込が必要です（4/3(金)より先着順で受付）
 天候情報：小雨実施その他：双眼鏡の無料貸し出しあ
 り
LOCATION:北九州市立山田緑地\, 日本、〒803-0865 福岡県北
 九州市小倉北区山田町
END:VEVENT
END:VCALENDAR
