BEGIN:VCALENDAR
VERSION:2.0
PRODID:-//chikkutakku.com//RDFCal 1.0//EN
X-WR-CALDESC:GoogleカレンダーやiCalendar形式情報を共有シェ
 アしましょう。近所のイベントから全国のイベントま
 で今日のイベント検索やスケジュールを決めるならち
 っくたっく
X-WR-CALNAME:ちっくたっく
X-WR-TIMEZONE:UTC
BEGIN:VEVENT
SUMMARY:【Android 対応】『白紙座』第30回定期公演【まし
 ろ小劇場】
DTSTART;VALUE=DATE-TIME:20260426T121500Z
DTEND;VALUE=DATE-TIME:20260426T143000Z
UID:221177787832
DESCRIPTION:【イベント主催者】\n　ましろ小劇場\n【イベ
 ント内容】\n　「台本なし！審査員は観客！？新感覚の
 即興演劇パフォーマンス！」\nVRインプロ集団『白紙座
 』の記念すべき第30回定期公演です\nお客様にシーンの
 点数を付けていただき、演者が勝ち残っていくインプ
 ロ『マエストロ』を上演いたします\n【イベントジャン
 ル】\n　\n【参加条件（モデル、人数制限など）】\n　\n
 【参加方法】\n　①【ましろ小劇場／白紙座】のVRCグル
 ープ( https://vrc.group/HKSZ.5030 )に参加\n②開場時間になっ
 たら、グループインスタンスに入る\n【備考】\n　たく
 さんのお客様が予想されます。\n事前にアバターカリン
 グをするなど、負荷対策をしてお越しください。\nまた
 、できるだけ負荷の少ないアバターでご参加ください
 。\n\n上演中の録画、録音は固くお断りしております。\
 n他のお客様のご迷惑にならない範囲での写真撮影は可
 能です。\n\nAndroid対応済みワールドのため、Mobileでの参
 加も可能ですが、観劇品質は保証いたしかねます。ご
 理解のほどよろしくお願いいたします。
LOCATION:
END:VEVENT
END:VCALENDAR
