BEGIN:VCALENDAR
VERSION:2.0
PRODID:-//chikkutakku.com//RDFCal 1.0//EN
X-WR-CALDESC:GoogleカレンダーやiCalendar形式情報を共有シェ
 アしましょう。近所のイベントから全国のイベントま
 で今日のイベント検索やスケジュールを決めるならち
 っくたっく
X-WR-CALNAME:ちっくたっく
X-WR-TIMEZONE:UTC
BEGIN:VEVENT
SUMMARY:【現場の疑問に答える会計シリーズ・2】Q&A固定
 資産の会計実務〈第2版〉
DTSTART;VALUE=DATE:20260430
DTEND;VALUE=DATE:20260501
UID:221641217180
DESCRIPTION:2026-05-01【現場の疑問に答える会計シリーズ・2
 】Q&A固定資産の会計実務〈第2版〉EY新日本有限責任監
 査法人中央経済社
LOCATION:
END:VEVENT
END:VCALENDAR
