BEGIN:VCALENDAR
VERSION:2.0
PRODID:-//chikkutakku.com//RDFCal 1.0//EN
X-WR-CALDESC:GoogleカレンダーやiCalendar形式情報を共有シェ
 アしましょう。近所のイベントから全国のイベントま
 で今日のイベント検索やスケジュールを決めるならち
 っくたっく
X-WR-CALNAME:ちっくたっく
X-WR-TIMEZONE:UTC
BEGIN:VEVENT
SUMMARY:すかぱれ！「学園RP×青春×ハイドアンドシークイ
 ベント」
DTSTART;VALUE=DATE-TIME:20260422T133000Z
DTEND;VALUE=DATE-TIME:20260422T144500Z
UID:221905366467
DESCRIPTION:【イベント主催者】\n　しのちゃ！＆しなちゃ
 \n【イベント内容】\n　放課後に学校の生徒と共に青春
 を楽しみながら、とある理由で先生から逃げることに
 なるロールプレイ×ゲーム形式のイベントです！\n当イ
 ベントはキャストが学生・先生のRPを行いながら学校の
 放課後を過ごしてもらうイベントです。（お客さんはRP
 してもしなくても大丈夫！）\n\n【イベントジャンル】\
 n　ロールプレイ\n【参加条件（モデル、人数制限など
 ）】\n　【参加条件】 \n・日本語でコミュニケーション
 が可能な方 \n・PCVR環境（三点トラッキング以上）で参
 加できる方 \n・アバター容量40MB以下で人型のアバター
 を使用される方  \n\n【禁止・注意事項】\n ・キャスト
 への嫌がらせ、不快な発言等 \n・他のお客様への迷惑
 行為、不快な発言等 \n・事前の許可の無い録画、録音
 、配信行為 \n・NSFWに抵触する行為 ・武器の使用、過度
 なパーティクルや負荷のかかるアバターの利用 \n・許
 可のないキャストへのフレンド申請 \n・その他イベン
 ト進行を妨げると運営が判断した行為\n【参加方法】\n
 　下記URL「しのちゃ！」にフレンド申請の上、22時30分
 になりましたらリクインお願いします。\n\nhttps://vrchat.c
 om/home/user/usr_f55e7d5c-45e5-4293-a28e-2fcb3255723a\n【備考】\n　
 グループURL：https://vrc.group/SKPR.0226\nX：https://x.com/VRC_skapa
 re
LOCATION:
END:VEVENT
END:VCALENDAR
