BEGIN:VCALENDAR
VERSION:2.0
PRODID:-//chikkutakku.com//RDFCal 1.0//EN
X-WR-CALDESC:GoogleカレンダーやiCalendar形式情報を共有シェ
 アしましょう。近所のイベントから全国のイベントま
 で今日のイベント検索やスケジュールを決めるならち
 っくたっく
X-WR-CALNAME:ちっくたっく
X-WR-TIMEZONE:UTC
BEGIN:VEVENT
SUMMARY: Local Authority Elected Official (LAEO)-Two Hills
DTSTART;VALUE=DATE-TIME:20260507T153000Z
DTEND;VALUE=DATE-TIME:20260507T203000Z
UID:221926784177
DESCRIPTION:Location:\nCounty of Two Hills Admin Office\n4818 50 Ave\nTwo 
 Hills\, AB\n\nContact:\nElden Kozak\, DEM\n780-657-3358\nekozak@thcounty.a
 b.ca\n\nIntended for regional elected officials\n\nNo prerequisite
LOCATION:4818 50 Ave\, Two Hills\, AB T0B 0A4\, Canada
END:VEVENT
END:VCALENDAR
